BEGIN:VCALENDAR
VERSION:2.0
PRODID:-//Squarespace Inc/Squarespace 6//v6//EN
BEGIN:VEVENT
UID:5c1a6039cd8366be032f09c8@squarespace.com
DTSTAMP:20181219T151429Z
DTSTART:20190207T220000Z
DTEND:20190207T230000Z
SUMMARY:Galesburg Unit
GEO:40.917245;-90.293155
LOCATION:Knoxville American Legion\, 749 Henderson Rd.\, Knoxville\, IL
END:VEVENT
END:VCALENDAR
