BEGIN:VCALENDAR
VERSION:2.0
PRODID:-//Squarespace Inc/Squarespace 6//v6//EN
BEGIN:VEVENT
UID:5c1a5fab1ae6cf41019ce917@squarespace.com
DTSTAMP:20181219T151201Z
DTSTART:20190206T220000Z
DTEND:20190206T230000Z
SUMMARY:Lincoln Unit
GEO:40.139853;-89.349298
LOCATION:KC Hall\, 217 Limit St.\, Lincoln\, IL
END:VEVENT
END:VCALENDAR
