BEGIN:VCALENDAR
VERSION:2.0
PRODID:-//Squarespace Inc/Squarespace 6//v6//EN
BEGIN:VEVENT
UID:5c1a5fcc4d7a9c430ae5c316@squarespace.com
DTSTAMP:20181219T151233Z
DTSTART:20190206T230000Z
DTEND:20190207T000000Z
SUMMARY:LaSalle Unit
GEO:36.752442;-95.977681
LOCATION:Eagles Lodge\, 830 Harrison St.\, Peru\, IL
END:VEVENT
END:VCALENDAR
