BEGIN:VCALENDAR
VERSION:2.0
PRODID:-//Squarespace Inc/Squarespace 6//v6//EN
BEGIN:VEVENT
UID:5c1a5f8e4ae237bbedafca41@squarespace.com
DTSTAMP:20181219T151130Z
DTSTART:20190206T210000Z
DTEND:20190206T220000Z
SUMMARY:Clinton Unit
GEO:33.859919;-118.173692
LOCATION:1520 E. South St.\, Clinton\, IL
END:VEVENT
END:VCALENDAR
