BEGIN:VCALENDAR
VERSION:2.0
PRODID:-//Squarespace Inc/Squarespace 6//v6//EN
BEGIN:VEVENT
UID:5c1a5bf90ebbe84ddddb6f52@squarespace.com
DTSTAMP:20181219T145622Z
DTSTART:20190205T210000Z
DTEND:20190205T220000Z
SUMMARY:Havana Unit
GEO:40.720756;-74.000761
LOCATION:VFW\, 425 W. Ave\, Havana\, IL
END:VEVENT
END:VCALENDAR
