BEGIN:VCALENDAR
VERSION:2.0
PRODID:-//Squarespace Inc/Squarespace 6//v6//EN
BEGIN:VEVENT
UID:5c1a5c2003ce64bfe059a942@squarespace.com
DTSTAMP:20181219T145707Z
DTSTART:20190205T230000Z
DTEND:20190206T000000Z
SUMMARY:Bloomington Unit
GEO:40.448215;-89.02514
LOCATION:IBEW Local 197\, 2407 Beich Rd\, Suite A\, Bloomington\, IL
END:VEVENT
END:VCALENDAR
