BEGIN:VCALENDAR
VERSION:2.0
PRODID:-//Squarespace Inc/Squarespace 6//v6//EN
BEGIN:VEVENT
UID:5c1a5bac88251bc1921d0cda@squarespace.com
DTSTAMP:20181219T145502Z
DTSTART:20190223T140000Z
DTEND:20190223T170000Z
SUMMARY:Executive Board
GEO:40.720756;-74.000761
LOCATION:IBEW Local 51\, 3171 Greenhead Dr\, Springfield IL
END:VEVENT
END:VCALENDAR
