BEGIN:VCALENDAR
VERSION:2.0
PRODID:-//Squarespace Inc/Squarespace 6//v6//EN
BEGIN:VEVENT
UID:5c1a6124b8a0456b5badc066@squarespace.com
DTSTAMP:20181219T151828Z
DTSTART:20190214T003000Z
DTEND:20190214T013000Z
SUMMARY:Jacksonville Unit
GEO:39.719182;-90.244184
LOCATION:American Legion\, 903 W. Superior Ave.\, Jacksonville\, IL
END:VEVENT
END:VCALENDAR
