BEGIN:VCALENDAR
VERSION:2.0
PRODID:-//Squarespace Inc/Squarespace 6//v6//EN
BEGIN:VEVENT
UID:5c1a60fd88251bc1921d52c5@squarespace.com
DTSTAMP:20181219T151744Z
DTSTART:20190213T210000Z
DTEND:20190213T220000Z
SUMMARY:Baldwin Unit
GEO:39.742855;-75.563407
LOCATION:Bullpen\, 101 N. VanBuren St.\, New Athens\, IL
END:VEVENT
END:VCALENDAR
