BEGIN:VCALENDAR
VERSION:2.0
PRODID:-//Squarespace Inc/Squarespace 6//v6//EN
BEGIN:VEVENT
UID:5c1a60d788251bc1921d50b6@squarespace.com
DTSTAMP:20181219T151705Z
DTSTART:20190212T223000Z
DTEND:20190212T233000Z
SUMMARY:Champaign Unit
GEO:40.720756;-74.000761
LOCATION:VFW Post 5520\, 609 Edgebrook\, Champaign\, IL
END:VEVENT
END:VCALENDAR
