BEGIN:VCALENDAR
VERSION:2.0
PRODID:-//Squarespace Inc/Squarespace 6//v6//EN
BEGIN:VEVENT
UID:5de7c02f91057c05bf5eeed6@squarespace.com
DTSTAMP:20191204T141836Z
DTSTART:20200206T220000Z
DTEND:20200206T230000Z
SUMMARY:Wood River Unit
GEO:40.720756;-74.000761
LOCATION:IBEW Local 309\, 2000A Mall Street\, Collinsville\, IL
END:VEVENT
END:VCALENDAR
