BEGIN:VCALENDAR
VERSION:2.0
PRODID:-//Squarespace Inc/Squarespace 6//v6//EN
BEGIN:VEVENT
UID:5de7d1861c05887efd923b70@squarespace.com
DTSTAMP:20191204T153235Z
DTSTART:20200604T210000Z
DTEND:20200604T220000Z
SUMMARY:Wood River Unit
GEO:40.720756;-74.000761
LOCATION:IBEW Local 309\, 2000A Mall Street\, Collinsville\, IL
END:VEVENT
END:VCALENDAR
