BEGIN:VCALENDAR
VERSION:2.0
PRODID:-//Squarespace Inc/Squarespace 6//v6//EN
BEGIN:VEVENT
UID:5de7d1d42aee26493f1c7562@squarespace.com
DTSTAMP:20200925T195448Z
DTSTART:20201001T220000Z
DTEND:20201001T230000Z
SUMMARY:Wood River Unit
GEO:40.720756;-74.000761
LOCATION:IBEW Local 309\, 2000A Mall Street\, Collinsville\, IL
END:VEVENT
END:VCALENDAR
