BEGIN:VCALENDAR
VERSION:2.0
PRODID:-//Squarespace Inc/Squarespace 6//v6//EN
BEGIN:VEVENT
UID:5de7c05289bdad6667659fd2@squarespace.com
DTSTAMP:20191204T141911Z
DTSTART:20200206T223000Z
DTEND:20200206T233000Z
SUMMARY:Springfield Unit
GEO:39.743445;-89.712261
LOCATION:IBEW Local 51\, 3171 Greenhead Dr.\, Springfield\, IL
END:VEVENT
END:VCALENDAR
