BEGIN:VCALENDAR
VERSION:2.0
PRODID:-//Squarespace Inc/Squarespace 6//v6//EN
BEGIN:VEVENT
UID:5de7d331379f6e349525a9c1@squarespace.com
DTSTAMP:20191204T153941Z
DTSTART:20201001T213000Z
DTEND:20201001T223000Z
SUMMARY:Springfield Unit
GEO:39.743445;-89.712261
LOCATION:IBEW Local 51\, 3171 Greenhead Dr.\, Springfield\, IL
END:VEVENT
END:VCALENDAR
