BEGIN:VCALENDAR
VERSION:2.0
PRODID:-//Squarespace Inc/Squarespace 6//v6//EN
BEGIN:VEVENT
UID:5de7d366a6dd143c62720d2a@squarespace.com
DTSTAMP:20200925T200705Z
DTSTART:20201203T233000Z
DTEND:20201204T003000Z
SUMMARY:Springfield Unit
GEO:39.743445;-89.712261
LOCATION:IBEW Local 51\, 3171 Greenhead Dr.\, Springfield\, IL
END:VEVENT
END:VCALENDAR
