BEGIN:VCALENDAR
VERSION:2.0
PRODID:-//Squarespace Inc/Squarespace 6//v6//EN
BEGIN:VEVENT
UID:5c2d0e3db8a045a77adcb343@squarespace.com
DTSTAMP:20190102T191749Z
DTSTART:20191205T220000Z
DTEND:20191205T230000Z
SUMMARY:Galesburg Unit
GEO:40.720756;-74.000761
LOCATION:Knoxville American Legion\, 749 Henderson Rd.\, Knoxville\, IL
END:VEVENT
END:VCALENDAR
