BEGIN:VCALENDAR
VERSION:2.0
PRODID:-//Squarespace Inc/Squarespace 6//v6//EN
BEGIN:VEVENT
UID:5c2d0dcf1ae6cffc18f8e542@squarespace.com
DTSTAMP:20190102T191555Z
DTSTART:20191204T220000Z
DTEND:20191204T230000Z
SUMMARY:Lincoln Unit
GEO:40.720756;-74.000761
LOCATION:KC Hall\, 217 Limit St.\, Lincoln\, IL
END:VEVENT
END:VCALENDAR
