BEGIN:VCALENDAR
VERSION:2.0
PRODID:-//Squarespace Inc/Squarespace 6//v6//EN
BEGIN:VEVENT
UID:5c2d0df470a6ad12a50ea9f9@squarespace.com
DTSTAMP:20190102T191630Z
DTSTART:20191204T230000Z
DTEND:20191205T000000Z
SUMMARY:LaSalle Unit
GEO:26.010888;-80.121879
LOCATION:Eagles Lodge\, 830 Harrison St.\, Peru\, IL
END:VEVENT
END:VCALENDAR
