BEGIN:VCALENDAR
VERSION:2.0
PRODID:-//Squarespace Inc/Squarespace 6//v6//EN
BEGIN:VEVENT
UID:5c2d0da3758d46b19236b2bd@squarespace.com
DTSTAMP:20190102T191511Z
DTSTART:20191204T210000Z
DTEND:20191204T220000Z
SUMMARY:Clinton Unit
GEO:40.720756;-74.000761
LOCATION:1520 E. South St.\, Clinton IL
END:VEVENT
END:VCALENDAR
