BEGIN:VCALENDAR
VERSION:2.0
PRODID:-//Squarespace Inc/Squarespace 6//v6//EN
BEGIN:VEVENT
UID:5c1bce6b575d1feb99661084@squarespace.com
DTSTAMP:20181220T171650Z
DTSTART:20191231T120000Z
DTEND:20200101T220000Z
SUMMARY:Office Closed - New Years Holiday
END:VEVENT
END:VCALENDAR
