BEGIN:VCALENDAR
VERSION:2.0
PRODID:-//Squarespace Inc/Squarespace 6//v6//EN
BEGIN:VEVENT
UID:5c2d0d25aa4a99b297d5dad8@squarespace.com
DTSTAMP:20190102T191307Z
DTSTART:20191203T210000Z
DTEND:20191203T220000Z
SUMMARY:Havana Unit
GEO:34.098165;-118.213937
LOCATION:VFW\, 425 W. Ave.\, Havana\, IL
END:VEVENT
END:VCALENDAR
