BEGIN:VCALENDAR
VERSION:2.0
PRODID:-//Squarespace Inc/Squarespace 6//v6//EN
BEGIN:VEVENT
UID:5c2d0d778a922d883dc13157@squarespace.com
DTSTAMP:20190102T191429Z
DTSTART:20191203T230000Z
DTEND:20191204T000000Z
SUMMARY:Bloomington Unit
GEO:40.478711;-89.007099
LOCATION:IBEW Local 197\, 2407 Beich Road\, Suite A\, Bloomington IL
END:VEVENT
END:VCALENDAR
