BEGIN:VCALENDAR
VERSION:2.0
PRODID:-//Squarespace Inc/Squarespace 6//v6//EN
BEGIN:VEVENT
UID:5de7c4e089bdad666766328d@squarespace.com
DTSTAMP:20191204T143835Z
DTSTART:20200303T230000Z
DTEND:20200304T000000Z
SUMMARY:Bloomington Unit
GEO:40.478711;-89.007099
LOCATION:IBEW Local 197\, 2407 Beich Road\, Suite A\, Bloomington IL
END:VEVENT
END:VCALENDAR
