BEGIN:VCALENDAR
VERSION:2.0
PRODID:-//Squarespace Inc/Squarespace 6//v6//EN
BEGIN:VEVENT
UID:5de7c5c91c05887efd907e1a@squarespace.com
DTSTAMP:20200925T195034Z
DTSTART:20201006T230000Z
DTEND:20201007T000000Z
SUMMARY:Bloomington Unit
GEO:40.478711;-89.007099
LOCATION:IBEW Local 197\, 2407 Beich Road\, Suite A\, Bloomington IL
END:VEVENT
END:VCALENDAR
