BEGIN:VCALENDAR
VERSION:2.0
PRODID:-//Squarespace Inc/Squarespace 6//v6//EN
BEGIN:VEVENT
UID:5de7c5e089bdad66676651fa@squarespace.com
DTSTAMP:20200925T200131Z
DTSTART:20201104T000000Z
DTEND:20201104T010000Z
SUMMARY:Bloomington Unit
GEO:40.478711;-89.007099
LOCATION:IBEW Local 197\, 2407 Beich Road\, Suite A\, Bloomington IL
END:VEVENT
END:VCALENDAR
