BEGIN:VCALENDAR
VERSION:2.0
PRODID:-//Squarespace Inc/Squarespace 6//v6//EN
BEGIN:VEVENT
UID:5c1bce442b6a28ddecfa8229@squarespace.com
DTSTAMP:20181220T171611Z
DTSTART:20191224T120000Z
DTEND:20191225T220000Z
SUMMARY:Office Closed - Christmas Holiday
END:VEVENT
END:VCALENDAR
