BEGIN:VCALENDAR
VERSION:2.0
PRODID:-//Squarespace Inc/Squarespace 6//v6//EN
BEGIN:VEVENT
UID:5c1bce1a4d7a9c5a2d35619e@squarespace.com
DTSTAMP:20181220T171535Z
DTSTART:20191220T140000Z
DTEND:20191220T180000Z
SUMMARY:Executive Board
GEO:40.720756;-74.000761
LOCATION:IBEW Local 51\, 3171 Greenhead Dr.\, Springfield\, IL
END:VEVENT
END:VCALENDAR
