BEGIN:VCALENDAR
VERSION:2.0
PRODID:-//Squarespace Inc/Squarespace 6//v6//EN
BEGIN:VEVENT
UID:5c1bcdfa575d1feb99660a36@squarespace.com
DTSTAMP:20181220T171457Z
DTSTART:20191214T140000Z
DTEND:20191214T180000Z
SUMMARY:ALBAT Training
GEO:40.720756;-74.000761
LOCATION:Decatur\, IL
END:VEVENT
END:VCALENDAR
