BEGIN:VCALENDAR
VERSION:2.0
PRODID:-//Squarespace Inc/Squarespace 6//v6//EN
BEGIN:VEVENT
UID:5de7c0c240f75552fd4fe4b2@squarespace.com
DTSTAMP:20191204T142107Z
DTSTART:20200516T130000Z
DTEND:20200516T170000Z
SUMMARY:ALBAT Training
GEO:40.720756;-74.000761
LOCATION:Decatur\, IL
END:VEVENT
END:VCALENDAR
