BEGIN:VCALENDAR
VERSION:2.0
PRODID:-//Squarespace Inc/Squarespace 6//v6//EN
BEGIN:VEVENT
UID:5de7c13389bdad666765b888@squarespace.com
DTSTAMP:20191204T142259Z
DTSTART:20201114T140000Z
DTEND:20201114T180000Z
SUMMARY:ALBAT Training
GEO:40.720756;-74.000761
LOCATION:Decatur\, IL
END:VEVENT
END:VCALENDAR
