BEGIN:VCALENDAR
VERSION:2.0
PRODID:-//Squarespace Inc/Squarespace 6//v6//EN
BEGIN:VEVENT
UID:5de7c0ff379f6e3495232b21@squarespace.com
DTSTAMP:20191204T142207Z
DTSTART:20200912T130000Z
DTEND:20200912T170000Z
SUMMARY:ALBAT Training
GEO:40.720756;-74.000761
LOCATION:Decatur\, IL
END:VEVENT
END:VCALENDAR
