BEGIN:VCALENDAR
VERSION:2.0
PRODID:-//Squarespace Inc/Squarespace 6//v6//EN
BEGIN:VEVENT
UID:5de7c08f2aee26493f1a26e6@squarespace.com
DTSTAMP:20191204T142014Z
DTSTART:20200314T130000Z
DTEND:20200314T170000Z
SUMMARY:ALBAT Training
GEO:40.720756;-74.000761
LOCATION:Decatur\, IL
END:VEVENT
END:VCALENDAR
