BEGIN:VCALENDAR
VERSION:2.0
PRODID:-//Squarespace Inc/Squarespace 6//v6//EN
BEGIN:VEVENT
UID:5de7dbfb9e602d2daf64c4ad@squarespace.com
DTSTAMP:20191204T161717Z
DTSTART:20200911T233000Z
DTEND:20200912T003000Z
SUMMARY:Construction Unit
GEO:40.720756;-74.000761
LOCATION:IBEW Local 51\, 3171 Greenhead Dr.\, Springfield\, IL
END:VEVENT
END:VCALENDAR
