BEGIN:VCALENDAR
VERSION:2.0
PRODID:-//Squarespace Inc/Squarespace 6//v6//EN
BEGIN:VEVENT
UID:5de7dcf9b3cba52aa92da0d3@squarespace.com
DTSTAMP:20200925T200804Z
DTSTART:20201212T013000Z
DTEND:20201212T023000Z
SUMMARY:Construction Unit
GEO:40.720756;-74.000761
LOCATION:IBEW Local 51\, 3171 Greenhead Dr.\, Springfield\, IL
END:VEVENT
END:VCALENDAR
