BEGIN:VCALENDAR
VERSION:2.0
PRODID:-//Squarespace Inc/Squarespace 6//v6//EN
BEGIN:VEVENT
UID:5de7c2cd78ef74397919109d@squarespace.com
DTSTAMP:20191204T142954Z
DTSTART:20200213T213000Z
DTEND:20200213T223000Z
SUMMARY:Peoria Unit
GEO:40.720756;-74.000761
LOCATION:VFW 2602\, 1505 E. Lake St.\, Peoria Heights\, IL
END:VEVENT
END:VCALENDAR
