BEGIN:VCALENDAR
VERSION:2.0
PRODID:-//Squarespace Inc/Squarespace 6//v6//EN
BEGIN:VEVENT
UID:5de7daa864b7db055cd2931a@squarespace.com
DTSTAMP:20191204T161133Z
DTSTART:20200813T203000Z
DTEND:20200813T213000Z
SUMMARY:Peoria Unit
GEO:40.720756;-74.000761
LOCATION:VFW 2602\, 1505 E. Lake St.\, Peoria Heights\, IL
END:VEVENT
END:VCALENDAR
