BEGIN:VCALENDAR
VERSION:2.0
PRODID:-//Squarespace Inc/Squarespace 6//v6//EN
BEGIN:VEVENT
UID:5de7da5dc09a8973f9baabe1@squarespace.com
DTSTAMP:20191204T161015Z
DTSTART:20200409T203000Z
DTEND:20200409T213000Z
SUMMARY:Peoria Unit
GEO:40.720756;-74.000761
LOCATION:VFW 2602\, 1505 E. Lake St.\, Peoria Heights\, IL
END:VEVENT
END:VCALENDAR
