BEGIN:VCALENDAR
VERSION:2.0
PRODID:-//Squarespace Inc/Squarespace 6//v6//EN
BEGIN:VEVENT
UID:5c2d0f3670a6ad12a50ec319@squarespace.com
DTSTAMP:20190102T192143Z
DTSTART:20191212T203000Z
DTEND:20191212T213000Z
SUMMARY:Decatur Unit
GEO:39.884262;-88.935513
LOCATION:IBEW Local 146\, 3390 N. Woodford St.\, Decatur\, IL
END:VEVENT
END:VCALENDAR
