BEGIN:VCALENDAR
VERSION:2.0
PRODID:-//Squarespace Inc/Squarespace 6//v6//EN
BEGIN:VEVENT
UID:5de7d807c172cb20ceb857c2@squarespace.com
DTSTAMP:20191204T160020Z
DTSTART:20200709T193000Z
DTEND:20200709T203000Z
SUMMARY:Decatur Unit
GEO:39.884262;-88.935513
LOCATION:IBEW Local 146\, 3390 N. Woodford St.\, Decatur\, IL
END:VEVENT
END:VCALENDAR
