BEGIN:VCALENDAR
VERSION:2.0
PRODID:-//Squarespace Inc/Squarespace 6//v6//EN
BEGIN:VEVENT
UID:5de7d7d664b7db055cd22bbc@squarespace.com
DTSTAMP:20191204T155931Z
DTSTART:20200514T193000Z
DTEND:20200514T203000Z
SUMMARY:Decatur Unit
GEO:39.884262;-88.935513
LOCATION:IBEW Local 146\, 3390 N. Woodford St.\, Decatur\, IL
END:VEVENT
END:VCALENDAR
