BEGIN:VCALENDAR
VERSION:2.0
PRODID:-//Squarespace Inc/Squarespace 6//v6//EN
BEGIN:VEVENT
UID:5de7d97464b7db055cd26423@squarespace.com
DTSTAMP:20191204T160622Z
DTSTART:20200709T203000Z
DTEND:20200709T213000Z
SUMMARY:Decatur Unit 15
GEO:40.720756;-74.000761
LOCATION:IBEW Local 146\, 3390 N. Woodford St.\, Decatur\, IL
END:VEVENT
END:VCALENDAR
