BEGIN:VCALENDAR
VERSION:2.0
PRODID:-//Squarespace Inc/Squarespace 6//v6//EN
BEGIN:VEVENT
UID:5de7d9ccf4450873e66628f4@squarespace.com
DTSTAMP:20200925T195639Z
DTSTART:20201008T213000Z
DTEND:20201008T223000Z
SUMMARY:Decatur Unit 15
GEO:40.720756;-74.000761
LOCATION:IBEW Local 146\, 3390 N. Woodford St.\, Decatur\, IL
END:VEVENT
END:VCALENDAR
