BEGIN:VCALENDAR
VERSION:2.0
PRODID:-//Squarespace Inc/Squarespace 6//v6//EN
BEGIN:VEVENT
UID:5de7da101ccae03c969bd5f7@squarespace.com
DTSTAMP:20200925T200751Z
DTSTART:20201210T223000Z
DTEND:20201210T233000Z
SUMMARY:Decatur Unit 15
GEO:40.720756;-74.000761
LOCATION:IBEW Local 146\, 3390 N. Woodford St.\, Decatur\, IL
END:VEVENT
END:VCALENDAR
