BEGIN:VCALENDAR
VERSION:2.0
PRODID:-//Squarespace Inc/Squarespace 6//v6//EN
BEGIN:VEVENT
UID:5de7da006dde150c16911ce9@squarespace.com
DTSTAMP:20200925T200324Z
DTSTART:20201112T223000Z
DTEND:20201112T233000Z
SUMMARY:Decatur Unit 15
GEO:40.720756;-74.000761
LOCATION:IBEW Local 146\, 3390 N. Woodford St.\, Decatur\, IL
END:VEVENT
END:VCALENDAR
