BEGIN:VCALENDAR
VERSION:2.0
PRODID:-//Squarespace Inc/Squarespace 6//v6//EN
BEGIN:VEVENT
UID:5c2d0f0a2b6a2814e5533405@squarespace.com
DTSTAMP:20190403T184932Z
DTSTART:20191212T003000Z
DTEND:20191212T013000Z
SUMMARY:Jacksonville Unit
GEO:40.720756;-74.000761
LOCATION:American Legion\, 903 W. Superior Ave.\, Jacksonville\, IL
END:VEVENT
END:VCALENDAR
