BEGIN:VCALENDAR
VERSION:2.0
PRODID:-//Squarespace Inc/Squarespace 6//v6//EN
BEGIN:VEVENT
UID:5c2d0ee5aa4a99b297d5ff3c@squarespace.com
DTSTAMP:20190102T192033Z
DTSTART:20191211T210000Z
DTEND:20191211T220000Z
SUMMARY:Baldwin Unit
GEO:38.876078;-77.007838
LOCATION:Bullpen\, 101 N. Van Buren St.\, New Athens\, IL
END:VEVENT
END:VCALENDAR
