BEGIN:VCALENDAR
VERSION:2.0
PRODID:-//Squarespace Inc/Squarespace 6//v6//EN
BEGIN:VEVENT
UID:5c2d0ebc032be4591858cfde@squarespace.com
DTSTAMP:20191028T161257Z
DTSTART:20191210T220000Z
DTEND:20191210T230000Z
SUMMARY:Champaign Unit
GEO:40.13117;-88.252501
LOCATION:VFW Post 5520\, 609 Edgebrook\, Champaign\, IL
END:VEVENT
END:VCALENDAR
