BEGIN:VCALENDAR
VERSION:2.0
PRODID:-//Squarespace Inc/Squarespace 6//v6//EN
BEGIN:VEVENT
UID:5c1bcd5a6d2a73fd771e3566@squarespace.com
DTSTAMP:20181220T171217Z
DTSTART:20191109T140000Z
DTEND:20191109T180000Z
SUMMARY:ALBAT Training
GEO:40.720756;-74.000761
LOCATION:Decatur\, IL
END:VEVENT
END:VCALENDAR
