BEGIN:VCALENDAR
VERSION:2.0
PRODID:-//Squarespace Inc/Squarespace 6//v6//EN
BEGIN:VEVENT
UID:5c2cf81f0e2e72e38da078f9@squarespace.com
DTSTAMP:20190102T174321Z
DTSTART:20191107T220000Z
DTEND:20191107T230000Z
SUMMARY:Wood River Unit
GEO:40.720756;-74.000761
LOCATION:IBEW Local 309\, 2000A Mall St.\, Collinsville\, IL
END:VEVENT
END:VCALENDAR
